BEGIN:VCALENDAR
VERSION:2.0
PRODID:icalendar-ruby
CALSCALE:GREGORIAN
METHOD:PUBLISH
BEGIN:VEVENT
DTSTAMP:20260424T164341Z
UID:128-1332737@zionlutherancloverdale.org
DTSTART:20250611T150000Z
DTEND:20250611T170000Z
CLASS:PUBLIC
CREATED:20260424T113147
DESCRIPTION:
LAST-MODIFIED:20260424T113147
LOCATION:Zion Lutheran Cloverdale
SUMMARY:Adult Bible Study
URL;VALUE=URI:https://www.zionlutherancloverdale.org/events/adult-bible-stu
 dy/2025-06-11
ATTACH;FILENAME=12733-Bible_Devotional_Coffee.800w.tn.jpg;FMTTYPE=image/jpe
 g:https://dq5pwpg1q8ru0.cloudfront.net/2024/06/02/15/01/40/3f09edaa-a689-4
 0ff-a3b0-0ccf1b3e0aee/12733-Bible_Devotional_Coffee.800w.tn.jpg
END:VEVENT
END:VCALENDAR
